BEGIN:VCALENDAR
VERSION:2.0
PRODID:-//hacksw/handcal//NONSGML v1.0//EN
BEGIN:VEVENT
SUMMARY:Stage national de Jujitsu contact avec Bertrand AMOUSSOU 2026
UID:4728fe88-576f-41c5-b44f-d2563746ddfc
DTSTART:20260221T133000Z
DTEND:20260221T170000Z
LOCATION:Localisation Dojo Jose Jacquemart 115 Rue d'aire 59660 Merville
CATEGORIES:Stage
STATUS:
DESCRIPTION:<p style="text-align:center;">Le club de Jujitsu de
 Merville, organise un stage national de Jujitsu contact.</p>
 
 <p
 style="text-align:center;">A partir de 11 ans, <u><strong>minimum
 ceinture jaune</strong></u>. </p>
 
 <p
 style="text-align:center;"><u><strong>Anime par Bertrand
 AMOUSSOU</strong></u></p>
 
 <p style="text-align:center;"> </p>
 
 <p
 style="text-align:center;"><u><strong>Lieu du stage National
 :</strong></u></p>
 
 <p style="text-align:center;"><strong>Dojo
 Municipal de Merville</strong></p>
 
 <p
 style="text-align:center;"><strong>115 Rue d'Aire, 59660
 MERVILLE</strong></p>
URL;VALUE=URI:https://ecolejujitsuselfdefensemerville.sportsregions.fr/evenements/2026/02/21/stage-national-de-jujitsu-contact-avec-bertrand-amoussou-2026-2333703
END:VEVENT
END:VCALENDAR
